BEGIN:VCALENDAR
VERSION:2.0
PRODID:-//The National Consortium for Data Science - ECPv6.5.0.1//NONSGML v1.0//EN
CALSCALE:GREGORIAN
METHOD:PUBLISH
X-WR-CALNAME:The National Consortium for Data Science
X-ORIGINAL-URL:https://datascienceconsortium.org
X-WR-CALDESC:Events for The National Consortium for Data Science
REFRESH-INTERVAL;VALUE=DURATION:PT1H
X-Robots-Tag:noindex
X-PUBLISHED-TTL:PT1H
BEGIN:VTIMEZONE
TZID:America/New_York
BEGIN:DAYLIGHT
TZOFFSETFROM:-0500
TZOFFSETTO:-0400
TZNAME:EDT
DTSTART:20240310T070000
END:DAYLIGHT
BEGIN:STANDARD
TZOFFSETFROM:-0400
TZOFFSETTO:-0500
TZNAME:EST
DTSTART:20241103T060000
END:STANDARD
END:VTIMEZONE
BEGIN:VEVENT
DTSTART;TZID=America/New_York:20240926T130000
DTEND;TZID=America/New_York:20240926T170000
DTSTAMP:20260424T050452
CREATED:20240607T044334Z
LAST-MODIFIED:20241204T152635Z
UID:10000074-1727355600-1727370000@datascienceconsortium.org
SUMMARY:Foundations of AI: AI for Non-Coders
DESCRIPTION:Ever say to yourself: what even is an LLM? How do I get from chatting with ChatGPT to talking about larger AI products? How do I answer these nonstop questions from colleagues\, customers\, leadership and more in this new landscape? \nDo you find yourself needing expertise on AI that\, quite frankly\, you didn’t sign up for? \nThis course is designed to meet the needs of people who are not necessarily well-versed in math and science but who know that they need to know the basics about AI in this changing landscape. \nYou’ll learn about what AI can accomplish\, the intuitions behind how it works (no math or coding necessary!)\, and opportunities and risks. You’ll come away feeling confident that you know not only what an LLM actually is\, but understand all the jargon people use to talk about it. \nRegister for the Course\n  \n  \nScholarship Information\nNCDS is pleased to offer a limited number of full scholarships for faculty\, staff and students at two-year and four-year institutions to attend the Foundations of AI: AI for Non Coders course on Thursday\, Sept. 26 from 1:00 p.m. – 5:00 p.m. ET. \nTo apply for a full scholarship\, submit your application via this form. DO NOT USE THE MAIN REGISTRATION FORM TO APPLY FOR THE SCHOLARSHIP. 
URL:https://datascienceconsortium.org/event/foundations-of-ai-sept-2024/
CATEGORIES:Upskilling
ATTACH;FMTTYPE=image/png:https://datascienceconsortium.org/wp-content/uploads/NCDS_Flyer_2024_09_Foundations-02.png
END:VEVENT
END:VCALENDAR