BEGIN:VCALENDAR
VERSION:2.0
PRODID:-//The National Consortium for Data Science - ECPv6.5.0.1//NONSGML v1.0//EN
CALSCALE:GREGORIAN
METHOD:PUBLISH
X-WR-CALNAME:The National Consortium for Data Science
X-ORIGINAL-URL:https://datascienceconsortium.org
X-WR-CALDESC:Events for The National Consortium for Data Science
REFRESH-INTERVAL;VALUE=DURATION:PT1H
X-Robots-Tag:noindex
X-PUBLISHED-TTL:PT1H
BEGIN:VTIMEZONE
TZID:America/New_York
BEGIN:DAYLIGHT
TZOFFSETFROM:-0500
TZOFFSETTO:-0400
TZNAME:EDT
DTSTART:20250309T070000
END:DAYLIGHT
BEGIN:STANDARD
TZOFFSETFROM:-0400
TZOFFSETTO:-0500
TZNAME:EST
DTSTART:20251102T060000
END:STANDARD
END:VTIMEZONE
BEGIN:VEVENT
DTSTART;TZID=America/New_York:20250924T130000
DTEND;TZID=America/New_York:20250924T170000
DTSTAMP:20260421T124705
CREATED:20250814T165335Z
LAST-MODIFIED:20250814T171711Z
UID:10000094-1758718800-1758733200@datascienceconsortium.org
SUMMARY:Foundations of AI: Intro to Generative AI for Non-Coders
DESCRIPTION:This four-hour workshop is designed to provide non-technical audiences an understanding of AI\, its fundamental concepts\, and its practical applications. The course clarifies technical jargon and reveals how everyday people rely on AI in their personal and professional lives. \n\nAttendees will receive big picture explanations of how AI works and will learn about opportunities and risks in the field.\nThey will leave the course with deeper awareness of AI use in their work environment and a greater technical understanding of how AI drives innovation across sectors.\nAttendees will also learn the basics of prompt engineering\, with examples on how to get the best outputs from generative AI tools by learning best practices in prompt engineering.\n\nPrerequisites: None! This course is open and encouraged for anyone and everyone. \nRegister for the Event \nNCDS is pleased to offer a limited number of full scholarships for faculty\, staff and students at two-year and four-year institutions to attend the Foundations of AI: Intro to Generative AI for Non-Coders on Wednesday\, Sept. 24 from 1 p.m. – 5 p.m. ET. \nTo apply for a full scholarship\, submit your application via this form. DO NOT USE THE MAIN REGISTRATION FORM TO APPLY FOR THE SCHOLARSHIP.
URL:https://datascienceconsortium.org/event/foundations-of-ai-sept-2025/
LOCATION:via Zoom
CATEGORIES:Professional Development,Upskilling
ATTACH;FMTTYPE=image/png:https://datascienceconsortium.org/wp-content/uploads/NCDS_Flyer_2025_09_Foundations-02.png
END:VEVENT
END:VCALENDAR