BEGIN:VCALENDAR
VERSION:2.0
PRODID:-//The National Consortium for Data Science - ECPv6.5.0.1//NONSGML v1.0//EN
CALSCALE:GREGORIAN
METHOD:PUBLISH
X-ORIGINAL-URL:https://datascienceconsortium.org
X-WR-CALDESC:Events for The National Consortium for Data Science
REFRESH-INTERVAL;VALUE=DURATION:PT1H
X-Robots-Tag:noindex
X-PUBLISHED-TTL:PT1H
BEGIN:VTIMEZONE
TZID:America/New_York
BEGIN:DAYLIGHT
TZOFFSETFROM:-0500
TZOFFSETTO:-0400
TZNAME:EDT
DTSTART:20250309T070000
END:DAYLIGHT
BEGIN:STANDARD
TZOFFSETFROM:-0400
TZOFFSETTO:-0500
TZNAME:EST
DTSTART:20251102T060000
END:STANDARD
END:VTIMEZONE
BEGIN:VEVENT
DTSTART;TZID=America/New_York:20251030T110000
DTEND;TZID=America/New_York:20251030T120000
DTSTAMP:20260421T024642
CREATED:20251015T155907Z
LAST-MODIFIED:20251015T170701Z
UID:10000097-1761822000-1761825600@datascienceconsortium.org
SUMMARY:DataBytes: Real-World AI Evaluation: Overcoming the AI Assurance Bottleneck
DESCRIPTION:Current AI evaluation methods focus solely on the underlying technology and lack the necessary detail for real-world deployment decisions. Civitaas aims to bridge this gap and accelerate AI market readiness by evaluating the quality\, safety\, and utility of AI technologies in the real world. We achieve this through real-time user feedback as they interact with AI systems\, leading to more meaningful outcomes that enable businesses to leverage AI effectively and responsibly. \nRegister for the Event
URL:https://datascienceconsortium.org/event/databytes-oct-2025/
LOCATION:via Zoom
CATEGORIES:DataBytes,Professional Development,Upskilling
END:VEVENT
END:VCALENDAR