BEGIN:VCALENDAR
VERSION:2.0
PRODID:-//The National Consortium for Data Science - ECPv6.5.0.1//NONSGML v1.0//EN
CALSCALE:GREGORIAN
METHOD:PUBLISH
X-ORIGINAL-URL:https://datascienceconsortium.org
X-WR-CALDESC:Events for The National Consortium for Data Science
REFRESH-INTERVAL;VALUE=DURATION:PT1H
X-Robots-Tag:noindex
X-PUBLISHED-TTL:PT1H
BEGIN:VTIMEZONE
TZID:America/New_York
BEGIN:DAYLIGHT
TZOFFSETFROM:-0500
TZOFFSETTO:-0400
TZNAME:EDT
DTSTART:20250309T070000
END:DAYLIGHT
BEGIN:STANDARD
TZOFFSETFROM:-0400
TZOFFSETTO:-0500
TZNAME:EST
DTSTART:20251102T060000
END:STANDARD
END:VTIMEZONE
BEGIN:VEVENT
DTSTART;TZID=America/New_York:20251210T120000
DTEND;TZID=America/New_York:20251210T130000
DTSTAMP:20260421T101654
CREATED:20251015T165314Z
LAST-MODIFIED:20251203T162836Z
UID:10000100-1765368000-1765371600@datascienceconsortium.org
SUMMARY:DataBytes: Calling all Data Scientists...Introducing ROBOKOP
DESCRIPTION:ROBOKOP (Reasoning Over Biomedical Objects linked in Knowledge Oriented Pathways) is a knowledge graph system that aims to accelerate and advance scientific discovery by enabling users to simultaneously explore dozens of integrated and harmonized sources of biomedical knowledge. ROBOKOP has been applied to suggest mechanistic insights into biomedical questions and hypotheses for subsequent testing across multiple domains\, including hepatotoxicity\, environmental determinants of disease\, drug repurposing and mechanism of action\, and others. \nDuring this NCDS webinar\, Dr. Karamarie Fecho will provide a short presentation and live demonstration of ROBOKOP\, followed by an opportunity for attendees to pose questions to ROBOKOP and explore answers. \nAfter this webinar\, attendees will:\n● Gain a general understanding of knowledge graphs\n● Be aware of the ROBOKOP knowledge graph system and know how to access it\n● Have a basic understanding of how to query ROBOKOP and interpret results \nFunding\nROBOKOP is funded by NIEHS with joint support from the NIH Office of Data Science (#U24ES035214). Drs. Alexander Tropsha and Chris Bizon\, of the University of North Carolina at Chapel Hill\, serve as Principal Investigators. \nAbout Dr. Karamarie Fecho\nDr. Fecho holds a PhD degree in Neurobiology from UNC’s School of Medicine. Her scientific background is broad and spans the clinical and translational spectrum\, from basic science to clinical research to healthcare quality assurance/improvement and data science. \nKara currently serves as Founder and CEO of Copperline Professional Solutions\, which is a small biomedical consulting company that she founded in 2010. Through Copperline\, Kara has engaged with numerous academic organizations\, pharmaceutical companies\, tech start-ups\, and non-profits\, providing a wide array of services\, products\, and expertise. \nKara also is a Research Affiliate at RENCI\, where in recent years she has been focused on the development and application of biomedical knowledge graphs. This webinar will focus on her work on the ROBOKOP (Reasoning Over Biomedical Objects linked in Knowledge Oriented Pathways) knowledge graph system. \nREGISTER HERE
URL:https://datascienceconsortium.org/event/databytes-dec-2025/
LOCATION:via Zoom
CATEGORIES:DataBytes,Professional Development,Upskilling
END:VEVENT
END:VCALENDAR