BEGIN:VCALENDAR
VERSION:2.0
PRODID:-//The National Consortium for Data Science - ECPv6.5.0.1//NONSGML v1.0//EN
CALSCALE:GREGORIAN
METHOD:PUBLISH
X-WR-CALNAME:The National Consortium for Data Science
X-ORIGINAL-URL:https://datascienceconsortium.org
X-WR-CALDESC:Events for The National Consortium for Data Science
REFRESH-INTERVAL;VALUE=DURATION:PT1H
X-Robots-Tag:noindex
X-PUBLISHED-TTL:PT1H
BEGIN:VTIMEZONE
TZID:America/New_York
BEGIN:DAYLIGHT
TZOFFSETFROM:-0500
TZOFFSETTO:-0400
TZNAME:EDT
DTSTART:20220313T070000
END:DAYLIGHT
BEGIN:STANDARD
TZOFFSETFROM:-0400
TZOFFSETTO:-0500
TZNAME:EST
DTSTART:20221106T060000
END:STANDARD
END:VTIMEZONE
BEGIN:VEVENT
DTSTART;TZID=America/New_York:20220407T120000
DTEND;TZID=America/New_York:20220407T130000
DTSTAMP:20260421T115036
CREATED:20230217T041812Z
LAST-MODIFIED:20230505T045258Z
UID:10000054-1649332800-1649336400@datascienceconsortium.org
SUMMARY:NCDS Lunch and Learn: How to Be An Antiracist Researcher
DESCRIPTION:Antiracist researchers combat inequality and racism by conceptualizing\, implementing\, and disseminating research that dismantles racism\, oppression\, discrimination\, and structural inequalities. This presentation offers participants an opportunity to learn how to engage in antiracist research by presenting a counter-narrative to the traditional conceptualization and implementation of research with Black\, Indigenous\, and People of Color (BIPOC). During our time together\, the panelists will \n\ndefine antiracist research\noffer unique principles for conducting antiracist research\npresent challenges the antiracist researcher will encounter\noffer practical recommendations\n\nPanelists include: \n\nDr. Trenette Goings – UNC School of Social Work\nDr. Faye Belgrave – Virginia Commonwealth University (VCU)\, main campus\nDr. Maghboobah Mosavel – Virginia Commonwealth University (VCU)\, medical campus
URL:https://datascienceconsortium.org/event/ncds-lunch-and-learn-how-to-be-an-antiracist-researcher/
CATEGORIES:Lunch & Learn,Professional Development
ATTACH;FMTTYPE=image/png:https://datascienceconsortium.org/wp-content/uploads/NCDS_SocialBackground_2022_03_LunchLearn-02.png
END:VEVENT
END:VCALENDAR