BEGIN:VCALENDAR
VERSION:2.0
PRODID:-//The National Consortium for Data Science - ECPv6.5.0.1//NONSGML v1.0//EN
CALSCALE:GREGORIAN
METHOD:PUBLISH
X-WR-CALNAME:The National Consortium for Data Science
X-ORIGINAL-URL:https://datascienceconsortium.org
X-WR-CALDESC:Events for The National Consortium for Data Science
REFRESH-INTERVAL;VALUE=DURATION:PT1H
X-Robots-Tag:noindex
X-PUBLISHED-TTL:PT1H
BEGIN:VTIMEZONE
TZID:America/New_York
BEGIN:DAYLIGHT
TZOFFSETFROM:-0500
TZOFFSETTO:-0400
TZNAME:EDT
DTSTART:20220313T070000
END:DAYLIGHT
BEGIN:STANDARD
TZOFFSETFROM:-0400
TZOFFSETTO:-0500
TZNAME:EST
DTSTART:20221106T060000
END:STANDARD
END:VTIMEZONE
BEGIN:VEVENT
DTSTART;TZID=America/New_York:20221102T120000
DTEND;TZID=America/New_York:20221102T130000
DTSTAMP:20260421T184128
CREATED:20230217T040736Z
LAST-MODIFIED:20230311T104112Z
UID:10000050-1667390400-1667394000@datascienceconsortium.org
SUMMARY:Improving Digital Inclusivity on Local Government Websites using the “Hidden Cues” in Data
DESCRIPTION:The National Consortium for Data Science (NCDS)\, in partnership with Interpersonal Frequency\, will host a free webinar\, on “Improving Digital Inclusivity on Local Government Websites using the “Hidden Cues” in Data” on Wednesday\, November 2 at 12 PM ET. \nIn theory\, digital spaces can provide both services and better quality of life to more people than ever before. In practice\, too many government websites are not serving diverse populations equally. You want your website to do better and attract historically underprivileged categories\, but how do you begin? In this webinar\, you’ll learn how civic analytics can give solid clues about how to build a more inclusive government website. Interpersonal Frequency founder Harish R. Rao will reveal our 2021 Government Benchmarking report with user success data with insight on how to attract those digitally left behind\, and help you decide where to invest your next research funds. Plus\, he’ll discuss unique insights learned from I.F.’s in-depth website discovery process with cities and counties. We will also cover “hidden” insights buried in the benchmarks\, like the services that municipal government web users most want — but often fail to find or receive. \nView a recording of the event here.
URL:https://datascienceconsortium.org/event/improving-digital-inclusivity-on-local-government-websites-using-the-hidden-cues-in-data/
CATEGORIES:Professional Development
ATTACH;FMTTYPE=image/png:https://datascienceconsortium.org/wp-content/uploads/NCDS_Flyer_2022_11_HiddenCues_V1-01.png
END:VEVENT
BEGIN:VEVENT
DTSTART;TZID=America/New_York:20221019T120000
DTEND;TZID=America/New_York:20221019T130000
DTSTAMP:20260421T184128
CREATED:20230217T040925Z
LAST-MODIFIED:20230626T145703Z
UID:10000051-1666180800-1666184400@datascienceconsortium.org
SUMMARY:2022 NCDS Fall Career Panel: Analyzing Data Science Careers
DESCRIPTION:You don’t want to miss these data science professionals provide insight into what it takes to capture the attention of top recruiters in data science and data analytics. Our panelists represent a variety of career stages and they are ready to discuss what it takes to set yourself apart as you launch your career search. Join us to learn more about: \n\nWhat programming languages are in demand now\nUnexpected ways to promote your experience\nWhat experiences you should gain early in your career\n\nRegister for this free\, virtual career panel on Wednesday\, October 19\, 2022 at 12pm-1pm\, featuring Dr. Deborah Stroman (UNC Gillings School of Public Health)\, Justin Choy (Google)\, Gabriel Farkas (IQVIA)\, and Namrata Jumani (Bain and Co). \nView a recording of the event here.
URL:https://datascienceconsortium.org/event/2022-ncds-fall-career-panel/
CATEGORIES:Career Panel,Networking
ATTACH;FMTTYPE=image/png:https://datascienceconsortium.org/wp-content/uploads/NCDS_SocialBackground_2022_09_CareerPanel-02.png
END:VEVENT
BEGIN:VEVENT
DTSTART;TZID=America/New_York:20221013T110000
DTEND;TZID=America/New_York:20221013T120000
DTSTAMP:20260421T184128
CREATED:20230217T041545Z
LAST-MODIFIED:20230311T113520Z
UID:10000052-1665658800-1665662400@datascienceconsortium.org
SUMMARY:Building an Inclusive and Transformative Data Strategy in Research and Community Engagement
DESCRIPTION:The National Consortium for Data Science (NCDS)\, in partnership with the UNC Office of the Vice Chancellor for Research\, will host a conversation on Building an Inclusive and Transformative Data Strategy in Research and Community Engagement on Thursday\, October 13 at 11 AM ET. \nThe COVID pandemic and racial justice protests across the country have sparked new conversations regarding race\, racism\, and social justice in nearly every aspect of American society. From housing\, health care\, employment\, and wealth accumulation to education and policing\, policies\, practices\, and institutions are being re-examined through the lens of anti-racism and equity. Data\, and the systems that create and rely upon data\, have been no exception. \nIn this online seminar\, audiences will hear from interdisciplinary experts as they define data equity and discuss considerations of the ways in which data are collected\, analyzed\, interpreted\, and distributed. This discussion will explore ways that data can reinforce stereotypes\, exacerbate problems like racial bias\, or otherwise undermine social justice. Finally\, we will discuss how data equity can empower communities\, yield informed decision making\, and share best practices for inclusivity and improving data equity. \nThe event will be moderated by Dr. Essie Torres\, Director of Strategy for Research Diversity Workforce and Community Partnerships at the Office of the Vice Chancellor for Research. Our panelists include: \n\nDr. Kristin Black — ECU Department of Health Education and Promotion\nDr. Trenette Goings – UNC School of Social Work\nDr. Iheoma Iruka — UNC Department of Public Policy\nMr. Milton Suggs — UNC Frank Porter Graham Child Development Institute\n\nView a recording of the event here.
URL:https://datascienceconsortium.org/event/building-an-inclusive-and-transformative-data-strategy-in-research-and-community-engagement/
CATEGORIES:Professional Development
ATTACH;FMTTYPE=image/png:https://datascienceconsortium.org/wp-content/uploads/OVCR-NCDS-Panel-2.png
END:VEVENT
BEGIN:VEVENT
DTSTART;VALUE=DATE:20220808
DTEND;VALUE=DATE:20220813
DTSTAMP:20260421T184128
CREATED:20230217T041653Z
LAST-MODIFIED:20230505T045240Z
UID:10000053-1659916800-1660348799@datascienceconsortium.org
SUMMARY:Data Matters 2022
DESCRIPTION:Data Matters™ is a week-long series of one and two-day courses aimed at students and professionals in business\, research\, and government. Sponsored by the Odum Institute for Research in Social Science at UNC-Chapel Hill\, the National Consortium for Data Science\, and RENCI\, the short-course series gives students the chance to learn about a wide range of topics in data science\, analytics\, visualization\, curation\, and more from expert instructors. \nCheck out the Data Matters website to see more information about the first-ever springtime series\, Data Matters: Spring Ahead\, which will be held on March 13-16\, 2023 and will feature a selection of their most popular two-day courses. The traditional Data Matters series will return in August 2023.
URL:https://datascienceconsortium.org/event/data-matters-2022/
CATEGORIES:Data Matters,Professional Development
ATTACH;FMTTYPE=image/png:https://datascienceconsortium.org/wp-content/uploads/DM-Basic-Campaign-Instagram-Posts-01.png
END:VEVENT
BEGIN:VEVENT
DTSTART;TZID=America/New_York:20220407T120000
DTEND;TZID=America/New_York:20220407T130000
DTSTAMP:20260421T184128
CREATED:20230217T041812Z
LAST-MODIFIED:20230505T045258Z
UID:10000054-1649332800-1649336400@datascienceconsortium.org
SUMMARY:NCDS Lunch and Learn: How to Be An Antiracist Researcher
DESCRIPTION:Antiracist researchers combat inequality and racism by conceptualizing\, implementing\, and disseminating research that dismantles racism\, oppression\, discrimination\, and structural inequalities. This presentation offers participants an opportunity to learn how to engage in antiracist research by presenting a counter-narrative to the traditional conceptualization and implementation of research with Black\, Indigenous\, and People of Color (BIPOC). During our time together\, the panelists will \n\ndefine antiracist research\noffer unique principles for conducting antiracist research\npresent challenges the antiracist researcher will encounter\noffer practical recommendations\n\nPanelists include: \n\nDr. Trenette Goings – UNC School of Social Work\nDr. Faye Belgrave – Virginia Commonwealth University (VCU)\, main campus\nDr. Maghboobah Mosavel – Virginia Commonwealth University (VCU)\, medical campus
URL:https://datascienceconsortium.org/event/ncds-lunch-and-learn-how-to-be-an-antiracist-researcher/
CATEGORIES:Lunch & Learn,Professional Development
ATTACH;FMTTYPE=image/png:https://datascienceconsortium.org/wp-content/uploads/NCDS_SocialBackground_2022_03_LunchLearn-02.png
END:VEVENT
END:VCALENDAR